BEGIN:VCALENDAR
VERSION:2.0
PRODID:-//ONSITE TRAINING AUSTRALIA - Australia’s premier leadership and training provider - ECPv6.10.1.1//NONSGML v1.0//EN
CALSCALE:GREGORIAN
METHOD:PUBLISH
X-ORIGINAL-URL:https://onsitetraining.com.au
X-WR-CALDESC:Events for ONSITE TRAINING AUSTRALIA - Australia’s premier leadership and training provider
REFRESH-INTERVAL;VALUE=DURATION:PT1H
X-Robots-Tag:noindex
X-PUBLISHED-TTL:PT1H
BEGIN:VTIMEZONE
TZID:Australia/Melbourne
BEGIN:STANDARD
TZOFFSETFROM:+1100
TZOFFSETTO:+1000
TZNAME:AEST
DTSTART:20250405T160000
END:STANDARD
BEGIN:DAYLIGHT
TZOFFSETFROM:+1000
TZOFFSETTO:+1100
TZNAME:AEDT
DTSTART:20251004T160000
END:DAYLIGHT
END:VTIMEZONE
BEGIN:VEVENT
DTSTART;TZID=Australia/Melbourne:20251028T073000
DTEND;TZID=Australia/Melbourne:20251030T170000
DTSTAMP:20260421T045503
CREATED:20250702T032403Z
LAST-MODIFIED:20251030T070027Z
UID:10000379-1761636600-1761843600@onsitetraining.com.au
SUMMARY:Certificate IV TAE40122 (Part A) - MACKAY - 28 Oct 2025
DESCRIPTION:Lay a solid foundation for your training journey with our Cert IV TAE40122 (Part A) program. Over 3 days\, explore various units tailored for effective training and assessment. Join us to kickstart your career in education and training.
URL:https://onsitetraining.com.au/course/certificate-iv-tae40122-part-a-mackay-28-oct-2025/
LOCATION:QTAD\, 839 Mackay/Bucasia Road\, BUCASIA\, QLD\, 4750\, Australia
CATEGORIES:Training and Assessment
ORGANIZER;CN="Joanne Phillips":MAILTO:roadskills@live.com.au
END:VEVENT
BEGIN:VEVENT
DTSTART;TZID=Australia/Melbourne:20251028T073000
DTEND;TZID=Australia/Melbourne:20251030T170000
DTSTAMP:20260421T045503
CREATED:20250702T033938Z
LAST-MODIFIED:20251030T070028Z
UID:10000386-1761636600-1761843600@onsitetraining.com.au
SUMMARY:Certificate IV TAE40122 (Part A) - MORANBAH - 28 Oct 2025
DESCRIPTION:Lay a solid foundation for your training journey with our Cert IV TAE40122 (Part A) program. Over 3 days\, explore various units tailored for effective training and assessment. Join us to kickstart your career in education and training.
URL:https://onsitetraining.com.au/course/certificate-iv-tae40122-part-a-moranbah-28-oct-2025/
LOCATION:Moranbah Onsite Training Venue\, Moranbah Shop 15\, Town Square Avenue\, Moranbah\, QLD\, 4744\, Australia
CATEGORIES:Training and Assessment
ORGANIZER;CN="Aimee Smart":MAILTO:aimee@onsitetraining.com.au
END:VEVENT
END:VCALENDAR