BEGIN:VCALENDAR
VERSION:2.0
PRODID:-//ONSITE TRAINING AUSTRALIA - Australia’s premier leadership and training provider - ECPv6.10.1.1//NONSGML v1.0//EN
CALSCALE:GREGORIAN
METHOD:PUBLISH
X-ORIGINAL-URL:https://onsitetraining.com.au
X-WR-CALDESC:Events for ONSITE TRAINING AUSTRALIA - Australia’s premier leadership and training provider
REFRESH-INTERVAL;VALUE=DURATION:PT1H
X-Robots-Tag:noindex
X-PUBLISHED-TTL:PT1H
BEGIN:VTIMEZONE
TZID:Australia/Melbourne
BEGIN:STANDARD
TZOFFSETFROM:+1100
TZOFFSETTO:+1000
TZNAME:AEST
DTSTART:20250405T160000
END:STANDARD
BEGIN:DAYLIGHT
TZOFFSETFROM:+1000
TZOFFSETTO:+1100
TZNAME:AEDT
DTSTART:20251004T160000
END:DAYLIGHT
END:VTIMEZONE
BEGIN:VEVENT
DTSTART;TZID=Australia/Melbourne:20251209T073000
DTEND;TZID=Australia/Melbourne:20251211T170000
DTSTAMP:20260421T081920
CREATED:20251201T023500Z
LAST-MODIFIED:20251211T070027Z
UID:10000800-1765265400-1765472400@onsitetraining.com.au
SUMMARY:Transition – TAE40110 to TAE40122 - MACKAY - 09 Dec 2025
DESCRIPTION:Transition seamlessly from TAE40110/TAE40116 to TAE40122 with our comprehensive program. Our face to face program is designed to help you transition to the newest Training and Assessor certification in the fastest easiest way possible. \nDuration: \nIn-person 3 Days (No Post Course Work) \nFee: $2\,500
URL:https://onsitetraining.com.au/course/transition-tae40110-to-tae40122-mackay-09-dec-2025-2/
LOCATION:QTAD\, 839 Mackay/Bucasia Road\, BUCASIA\, QLD\, 4750\, Australia
CATEGORIES:Training and Assessment
ORGANIZER;CN="Aimee Smart":MAILTO:aimee@onsitetraining.com.au
END:VEVENT
END:VCALENDAR