BEGIN:VCALENDAR
VERSION:2.0
PRODID:-//ONSITE TRAINING AUSTRALIA - Australia’s premier leadership and training provider - ECPv6.10.1.1//NONSGML v1.0//EN
CALSCALE:GREGORIAN
METHOD:PUBLISH
X-ORIGINAL-URL:https://onsitetraining.com.au
X-WR-CALDESC:Events for ONSITE TRAINING AUSTRALIA - Australia’s premier leadership and training provider
REFRESH-INTERVAL;VALUE=DURATION:PT1H
X-Robots-Tag:noindex
X-PUBLISHED-TTL:PT1H
BEGIN:VTIMEZONE
TZID:Australia/Melbourne
BEGIN:STANDARD
TZOFFSETFROM:+1100
TZOFFSETTO:+1000
TZNAME:AEST
DTSTART:20260404T160000
END:STANDARD
BEGIN:DAYLIGHT
TZOFFSETFROM:+1000
TZOFFSETTO:+1100
TZNAME:AEDT
DTSTART:20261003T160000
END:DAYLIGHT
END:VTIMEZONE
BEGIN:VEVENT
DTSTART;TZID=Australia/Melbourne:20260417T073000
DTEND;TZID=Australia/Melbourne:20260419T173000
DTSTAMP:20260419T230717
CREATED:20260419T080034Z
LAST-MODIFIED:20260419T080034Z
UID:10000914-1776411000-1776619800@onsitetraining.com.au
SUMMARY:Private Certificate IV TAE40122 (Part A) - Onsite Venue - 17 Apr 2026 - Stanmore IP Coal Pty Ltd
DESCRIPTION:Lay a solid foundation for your training journey with our Cert IV TAE40122 (Part A) program. Over 3 days\, explore various units tailored for effective training and assessment. Join us to kickstart your career in education and training.
URL:https://onsitetraining.com.au/course/private-certificate-iv-tae40122-part-a-onsite-venue-17-apr-2026-stanmore-ip-coal-pty-ltd/
CATEGORIES:Training and Assessment
ORGANIZER;CN="Nathan Corbett":MAILTO:director@onsitetraining.com.au
END:VEVENT
END:VCALENDAR