BEGIN:VCALENDAR
VERSION:2.0
PRODID:-//ONSITE TRAINING AUSTRALIA - Australia’s premier leadership and training provider - ECPv6.10.1.1//NONSGML v1.0//EN
CALSCALE:GREGORIAN
METHOD:PUBLISH
X-WR-CALNAME:ONSITE TRAINING AUSTRALIA - Australia’s premier leadership and training provider
X-ORIGINAL-URL:https://onsitetraining.com.au
X-WR-CALDESC:Events for ONSITE TRAINING AUSTRALIA - Australia’s premier leadership and training provider
REFRESH-INTERVAL;VALUE=DURATION:PT1H
X-Robots-Tag:noindex
X-PUBLISHED-TTL:PT1H
BEGIN:VTIMEZONE
TZID:Australia/Melbourne
BEGIN:STANDARD
TZOFFSETFROM:+1100
TZOFFSETTO:+1000
TZNAME:AEST
DTSTART:20260404T160000
END:STANDARD
BEGIN:DAYLIGHT
TZOFFSETFROM:+1000
TZOFFSETTO:+1100
TZNAME:AEDT
DTSTART:20261003T160000
END:DAYLIGHT
END:VTIMEZONE
BEGIN:VEVENT
DTSTART;TZID=Australia/Melbourne:20260809T073000
DTEND;TZID=Australia/Melbourne:20260809T173000
DTSTAMP:20260422T231100
CREATED:20260422T055313Z
LAST-MODIFIED:20260422T083209Z
UID:10000918-1786260600-1786296600@onsitetraining.com.au
SUMMARY:Queensland Coal Mining Legislation - Effective Supervision Training(4 -6 Hours) - null - 09 Aug 2026
DESCRIPTION:Stay compliant and maintain your statutory supervisor credentials with Mining Supervisor Legislation Training —This is for anyone holding or pursuing a statutory supervisory role in Queensland mining operations. \nThis is practical\, legislation-focused training that keeps you current with your obligations under the Coal Mining Safety and Health Act\, regulations\, and management system requirements. Delivered by industry experts who understand the operational realities of mining supervision\, this program gives you the legislative knowledge you need to lead safely and compliantly. \nNo academic theory. No post-course homework. Everything is covered in the session\, and you leave with your Certificate of Completion recognised for CPD points. \n**Who this is for:**\n– Statutory Site Senior Executives (SSE)\n– Undermanagers and deputy undermanagers\n– Crew leaders and supervisory personnel\n– Emerging leaders preparing for statutory roles\n– Supervisors requiring legislative currency for licence renewal or CPD compliance \n**What you’ll cover:**\n– Foundational knowledge of QLD Coal Mining Act and Regulations\, including structure\, format\, and key provisions\n– Understanding of “Stated Ways” and their role in achieving acceptable risk levels\n– Obligations and responsibilities under the legislation\, including discharge of duties\n– Clear understanding of the role of the Management Structure and Safety and Health Management System\n– Delegated supervisory responsibilities and accountability frameworks\n– Legislative updates and recent changes impacting supervisory practice \n**Why this matters:**\nStatutory supervisors carry significant legal and operational responsibility. This training ensures you understand your obligations\, can apply them confidently on site\, and maintain the CPD currency required for your role.
URL:https://onsitetraining.com.au/course/queensland-coal-mining-legislation-effective-supervision-training4-6-hours-null-09-aug-2026/
CATEGORIES:Leadership,SPEC
ORGANIZER;CN="Sherri Most":MAILTO:coast2coal@outlook.com.au
END:VEVENT
END:VCALENDAR