BEGIN:VCALENDAR
VERSION:2.0
PRODID:-//ONSITE TRAINING AUSTRALIA - Australia’s premier leadership and training provider - ECPv6.10.1.1//NONSGML v1.0//EN
CALSCALE:GREGORIAN
METHOD:PUBLISH
X-WR-CALNAME:ONSITE TRAINING AUSTRALIA - Australia’s premier leadership and training provider
X-ORIGINAL-URL:https://onsitetraining.com.au
X-WR-CALDESC:Events for ONSITE TRAINING AUSTRALIA - Australia’s premier leadership and training provider
REFRESH-INTERVAL;VALUE=DURATION:PT1H
X-Robots-Tag:noindex
X-PUBLISHED-TTL:PT1H
BEGIN:VTIMEZONE
TZID:Australia/Melbourne
BEGIN:STANDARD
TZOFFSETFROM:+1100
TZOFFSETTO:+1000
TZNAME:AEST
DTSTART:20260404T160000
END:STANDARD
BEGIN:DAYLIGHT
TZOFFSETFROM:+1000
TZOFFSETTO:+1100
TZNAME:AEDT
DTSTART:20261003T160000
END:DAYLIGHT
END:VTIMEZONE
BEGIN:VEVENT
DTSTART;TZID=Australia/Melbourne:20260915T073000
DTEND;TZID=Australia/Melbourne:20260917T173000
DTSTAMP:20260423T151624
CREATED:20260401T031106Z
LAST-MODIFIED:20260405T204934Z
UID:10000903-1789457400-1789666200@onsitetraining.com.au
SUMMARY:Certificate IV TAE40122 (Part A) - Brisbane - 15 Sep 2026
DESCRIPTION:Lay a solid foundation for your training journey with our Cert IV TAE40122 (Part A) program. Over 3 days\, explore various units tailored for effective training and assessment. Join us to kickstart your career in education and training. \nDisclaimer:Public Course Requirements\nWe deliver premium FACE-TO-FACE training with NO post-course work.\nTo maintain this standard\, a minimum of 6 paid participants is required for the course to proceed.\nIf minimum numbers are not met\, your enrolment will be rescheduled to the next available date. If a suitable date cannot be arranged\, a full refund will be issued promptly.\nAll participants must bring and be able to use a laptop/computer for the duration of the course.\nWi-Fi is provided onsite.
URL:https://onsitetraining.com.au/course/certificate-iv-tae40122-part-a-brisbane-15-sep-2026/
LOCATION:Central Coast Training\, Brisbane Unit 1/11 Booran Drive\, Woodridge\, QLD\, 4114\, Australia
CATEGORIES:Training and Assessment
END:VEVENT
BEGIN:VEVENT
DTSTART;TZID=Australia/Melbourne:20260915T073000
DTEND;TZID=Australia/Melbourne:20260917T173000
DTSTAMP:20260423T151624
CREATED:20260405T212559Z
LAST-MODIFIED:20260405T212559Z
UID:10000911-1789457400-1789666200@onsitetraining.com.au
SUMMARY:Transition – TAE40110 to TAE40122 - Face to Face - Mackay - 15 Sep 2026
DESCRIPTION:Transition seamlessly from TAE40110/TAE40116 to TAE40122 with our comprehensive program. Our face to face program is designed to help you transition to the newest Training and Assessor certification in the fastest easiest way possible. \nDisclaimer:Public Course Requirements\nWe deliver premium FACE-TO-FACE training with NO post-course work.\nTo maintain this standard\, a minimum of 6 paid participants is required for the course to proceed.\nIf minimum numbers are not met\, your enrolment will be rescheduled to the next available date. If a suitable date cannot be arranged\, a full refund will be issued promptly.\nAll participants must bring and be able to use a laptop/computer for the duration of the course.\nWi-Fi is provided onsite.
URL:https://onsitetraining.com.au/course/transition-tae40110-to-tae40122-face-to-face-mackay-15-sep-2026/
LOCATION:QTAD – Mackay\, QLD - Mackay 839 Mackay/Bucasia Road\, BUCASIA\, QLD\, 4750\, Mackay\, QLD\, 4740\, Australia
CATEGORIES:Training and Assessment
END:VEVENT
BEGIN:VEVENT
DTSTART;TZID=Australia/Melbourne:20260916T073000
DTEND;TZID=Australia/Melbourne:20260916T173000
DTSTAMP:20260423T151624
CREATED:20260423T010153Z
LAST-MODIFIED:20260423T013359Z
UID:10000920-1789543800-1789579800@onsitetraining.com.au
SUMMARY:Queensland Coal Mining Legislation - Effective Supervision Training - Moranbah - 16 Sep 2026
DESCRIPTION:Stay compliant and maintain your statutory supervisor credentials with Mining Supervisor Legislation Training —This is for anyone holding or pursuing a statutory supervisory role in Queensland mining operations. \nThis is practical\, legislation-focused training that keeps you current with your obligations under the Coal Mining Safety and Health Act\, regulations\, and management system requirements. Delivered by industry experts who understand the operational realities of mining supervision\, this program gives you the legislative knowledge you need to lead safely and compliantly. \nNo academic theory. No post-course homework. Everything is covered in the session\, and you leave with your Certificate of Completion recognised for CPD points. \n**Who this is for:**\n– Statutory Site Senior Executives (SSE)\n– Undermanagers and deputy undermanagers\n– Crew leaders and supervisory personnel\n– Emerging leaders preparing for statutory roles\n– Supervisors requiring legislative currency for licence renewal or CPD compliance \n**What you’ll cover:**\n– Foundational knowledge of QLD Coal Mining Act and Regulations\, including structure\, format\, and key provisions\n– Understanding of “Stated Ways” and their role in achieving acceptable risk levels\n– Obligations and responsibilities under the legislation\, including discharge of duties\n– Clear understanding of the role of the Management Structure and Safety and Health Management System\n– Delegated supervisory responsibilities and accountability frameworks\n– Legislative updates and recent changes impacting supervisory practice \n**Why this matters:**\nStatutory supervisors carry significant legal and operational responsibility. This training ensures you understand your obligations\, can apply them confidently on site\, and maintain the CPD currency required for your role.
URL:https://onsitetraining.com.au/course/queensland-coal-mining-legislation-effective-supervision-training-moranbah-16-sep-2026/
CATEGORIES:Leadership
ORGANIZER;CN="Sherri Most":MAILTO:coast2coal@outlook.com.au
END:VEVENT
BEGIN:VEVENT
DTSTART;TZID=Australia/Melbourne:20260921T073000
DTEND;TZID=Australia/Melbourne:20260923T173000
DTSTAMP:20260423T151624
CREATED:20260401T031339Z
LAST-MODIFIED:20260405T205008Z
UID:10000904-1789975800-1790184600@onsitetraining.com.au
SUMMARY:Certificate IV TAE40122 (Part A) - Moranbah - 21 Sep 2026
DESCRIPTION:Lay a solid foundation for your training journey with our Cert IV TAE40122 (Part A) program. Over 3 days\, explore various units tailored for effective training and assessment. Join us to kickstart your career in education and training. \nDisclaimer:Public Course Requirements\nWe deliver premium FACE-TO-FACE training with NO post-course work.\nTo maintain this standard\, a minimum of 6 paid participants is required for the course to proceed.\nIf minimum numbers are not met\, your enrolment will be rescheduled to the next available date. If a suitable date cannot be arranged\, a full refund will be issued promptly.\nAll participants must bring and be able to use a laptop/computer for the duration of the course.\nWi-Fi is provided onsite.
URL:https://onsitetraining.com.au/course/certificate-iv-tae40122-part-a-moranbah-21-sep-2026/
LOCATION:Moranbah Onsite Training Venue\, Moranbah Shop 15\, Town Square Avenue\, Moranbah\, QLD\, 4744\, Australia
CATEGORIES:Training and Assessment
END:VEVENT
BEGIN:VEVENT
DTSTART;TZID=Australia/Melbourne:20260924T073000
DTEND;TZID=Australia/Melbourne:20260926T173000
DTSTAMP:20260423T151624
CREATED:20260401T031456Z
LAST-MODIFIED:20260405T205043Z
UID:10000905-1790235000-1790443800@onsitetraining.com.au
SUMMARY:Certificate IV TAE40122 (Part B) - Moranbah - 24 Sep 2026
DESCRIPTION:Immerse yourself in the world of training and assessment with our Cert IV TAE40122 (Part B) program. Spanning 3 days\, this comprehensive course covers various units. Join us to advance your skills and knowledge in the field of education and training.\nPublic Course Requirements\nWe deliver premium FACE-TO-FACE training with NO post-course work.\nTo maintain this standard\, a minimum of 6 paid participants is required for the course to proceed.\nIf minimum numbers are not met\, your enrolment will be rescheduled to the next available date. If a suitable date cannot be arranged\, a full refund will be issued promptly.\nAll participants must bring and be able to use a laptop/computer for the duration of the course.\nWi-Fi is provided onsite.\nDisclaimer:
URL:https://onsitetraining.com.au/course/certificate-iv-tae40122-part-b-moranbah-24-sep-2026/
LOCATION:Moranbah Onsite Training Venue\, Moranbah Shop 15\, Town Square Avenue\, Moranbah\, QLD\, 4744\, Australia
CATEGORIES:Training and Assessment
ORGANIZER;CN="Nathan Corbett":MAILTO:director@onsitetraining.com.au
END:VEVENT
BEGIN:VEVENT
DTSTART;TZID=Australia/Melbourne:20260929T073000
DTEND;TZID=Australia/Melbourne:20260930T173000
DTSTAMP:20260423T151624
CREATED:20260401T034615Z
LAST-MODIFIED:20260405T205114Z
UID:10000906-1790667000-1790789400@onsitetraining.com.au
SUMMARY:Certificate IV TAE40122 (Part A) - Townsville - 29 Sep 2026
DESCRIPTION:Lay a solid foundation for your training journey with our Cert IV TAE40122 (Part A) program. Over 3 days\, explore various units tailored for effective training and assessment. Join us to kickstart your career in education and training. \nDisclaimer:Public Course Requirements\nWe deliver premium FACE-TO-FACE training with NO post-course work.\nTo maintain this standard\, a minimum of 6 paid participants is required for the course to proceed.\nIf minimum numbers are not met\, your enrolment will be rescheduled to the next available date. If a suitable date cannot be arranged\, a full refund will be issued promptly.\nAll participants must bring and be able to use a laptop/computer for the duration of the course.\nWi-Fi is provided onsite.
URL:https://onsitetraining.com.au/course/certificate-iv-tae40122-part-a-townsville-29-sep-2026/
LOCATION:Community Information Centre Townsville\, TOWNSVILLE 280 Flinders Street\, Townsville\, QLD\, 4810\, Australia
CATEGORIES:Training and Assessment
END:VEVENT
BEGIN:VEVENT
DTSTART;TZID=Australia/Melbourne:20261002T073000
DTEND;TZID=Australia/Melbourne:20261004T163000
DTSTAMP:20260423T151624
CREATED:20260401T034835Z
LAST-MODIFIED:20260406T223921Z
UID:10000907-1790926200-1791131400@onsitetraining.com.au
SUMMARY:Certificate IV TAE40122 (Part B) - Townsville - 02 Oct 2026
DESCRIPTION:Immerse yourself in the world of training and assessment with our Cert IV TAE40122 (Part B) program. Spanning 3 days\, this comprehensive course covers various units. Join us to advance your skills and knowledge in the field of education and training.\nPublic Course Requirements\nWe deliver premium FACE-TO-FACE training with NO post-course work.\nTo maintain this standard\, a minimum of 6 paid participants is required for the course to proceed.\nIf minimum numbers are not met\, your enrolment will be rescheduled to the next available date. If a suitable date cannot be arranged\, a full refund will be issued promptly.\nAll participants must bring and be able to use a laptop/computer for the duration of the course.\nWi-Fi is provided onsite.\nDisclaimer:
URL:https://onsitetraining.com.au/course/certificate-iv-tae40122-part-b-townsville-02-oct-2026/
LOCATION:Community Information Centre Townsville\, TOWNSVILLE 280 Flinders Street\, Townsville\, QLD\, 4810\, Australia
CATEGORIES:Training and Assessment
END:VEVENT
END:VCALENDAR