BEGIN:VCALENDAR
VERSION:2.0
PRODID:-//ONSITE TRAINING AUSTRALIA - Australia’s premier leadership and training provider - ECPv6.10.1.1//NONSGML v1.0//EN
CALSCALE:GREGORIAN
METHOD:PUBLISH
X-WR-CALNAME:ONSITE TRAINING AUSTRALIA - Australia’s premier leadership and training provider
X-ORIGINAL-URL:https://onsitetraining.com.au
X-WR-CALDESC:Events for ONSITE TRAINING AUSTRALIA - Australia’s premier leadership and training provider
REFRESH-INTERVAL;VALUE=DURATION:PT1H
X-Robots-Tag:noindex
X-PUBLISHED-TTL:PT1H
BEGIN:VTIMEZONE
TZID:Australia/Melbourne
BEGIN:STANDARD
TZOFFSETFROM:+1100
TZOFFSETTO:+1000
TZNAME:AEST
DTSTART:20250405T160000
END:STANDARD
BEGIN:DAYLIGHT
TZOFFSETFROM:+1000
TZOFFSETTO:+1100
TZNAME:AEDT
DTSTART:20251004T160000
END:DAYLIGHT
END:VTIMEZONE
BEGIN:VEVENT
DTSTART;TZID=Australia/Melbourne:20250904T073000
DTEND;TZID=Australia/Melbourne:20250906T170000
DTSTAMP:20260421T065448
CREATED:20250418T045407Z
LAST-MODIFIED:20250906T080025Z
UID:10000338-1756971000-1757178000@onsitetraining.com.au
SUMMARY:Certificate IV TAE40122 (Part B) - BRISBANE - 04 Sep 2025
DESCRIPTION:Immerse yourself in the world of training and assessment with our Cert IV TAE40122 (Part B) program. Spanning 3 days\, this comprehensive course covers various units. Join us to advance your skills and knowledge in the field of education and training.
URL:https://onsitetraining.com.au/course/certificate-iv-tae40122-part-b-brisbane-04-sep-2025/
LOCATION:Central Coast Training\, Brisbane Unit 1/11 Booran Drive\, Woodridge\, QLD\, 4114\, Australia
CATEGORIES:Training and Assessment
ORGANIZER;CN="Ryan Shallis":MAILTO:ryan@onsitetraining.com.au
END:VEVENT
BEGIN:VEVENT
DTSTART;TZID=Australia/Melbourne:20250911T073000
DTEND;TZID=Australia/Melbourne:20250913T170000
DTSTAMP:20260421T065448
CREATED:20250702T025740Z
LAST-MODIFIED:20250913T080040Z
UID:10000373-1757575800-1757782800@onsitetraining.com.au
SUMMARY:Certificate IV TAE40122 (Part A) - MORANBAH - 11 Sep 2025
DESCRIPTION:Lay a solid foundation for your training journey with our Cert IV TAE40122 (Part A) program. Over 3 days\, explore various units tailored for effective training and assessment. Join us to kickstart your career in education and training.
URL:https://onsitetraining.com.au/course/certificate-iv-tae40122-part-a-moranbah-11-sep-2025/
LOCATION:Moranbah Onsite Training Venue\, Moranbah Shop 15\, Town Square Avenue\, Moranbah\, QLD\, 4744\, Australia
CATEGORIES:Training and Assessment
ORGANIZER;CN="Greg Stark":MAILTO:starkie1@optusnet.com.au
END:VEVENT
BEGIN:VEVENT
DTSTART;TZID=Australia/Melbourne:20250916T073000
DTEND;TZID=Australia/Melbourne:20250918T170000
DTSTAMP:20260421T065448
CREATED:20250418T044816Z
LAST-MODIFIED:20250918T080031Z
UID:10000335-1758007800-1758214800@onsitetraining.com.au
SUMMARY:Certificate IV TAE40122 (Part B) - MACKAY - 16 Sep 2025
DESCRIPTION:Immerse yourself in the world of training and assessment with our Cert IV TAE40122 (Part B) program. Spanning 3 days\, this comprehensive course covers various units. Join us to advance your skills and knowledge in the field of education and training.
URL:https://onsitetraining.com.au/course/certificate-iv-tae40122-part-b-mackay-16-sep-2025/
LOCATION:Coral Cay Resort\, QLD - Mackay 14 Nebo Road\, Mackay\, QLD\, 4740\, Australia
CATEGORIES:Training and Assessment
ORGANIZER;CN="Aimee Smart":MAILTO:aimee@onsitetraining.com.au
END:VEVENT
BEGIN:VEVENT
DTSTART;TZID=Australia/Melbourne:20250916T073000
DTEND;TZID=Australia/Melbourne:20250918T170000
DTSTAMP:20260421T065448
CREATED:20250418T050228Z
LAST-MODIFIED:20250918T080031Z
UID:10000342-1758007800-1758214800@onsitetraining.com.au
SUMMARY:Transition – TAE40110 to TAE40122 - TOWNSVILLE - 16 Sep 2025
DESCRIPTION:Transition seamlessly from TAE40110/TAE40116 to TAE40122 with our comprehensive program. Our face to face program is designed to help you transition to the newest Training and Assessor certification in the fastest easiest way possible. \nDuration: \nIn-person 3 Days (No Post Course Work) \nFee: $2\,500
URL:https://onsitetraining.com.au/course/transition-tae40110-to-tae40122-townsville-16-sep-2025/
LOCATION:Townsville Community Information Centre\, QLD - Townsville 280 Flinders St\, Northtown Townsville\, QLD\, 4810\, Australia
CATEGORIES:Training and Assessment
ORGANIZER;CN="Joanne Phillips":MAILTO:roadskills@live.com.au
END:VEVENT
BEGIN:VEVENT
DTSTART;TZID=Australia/Melbourne:20250919T073000
DTEND;TZID=Australia/Melbourne:20250921T170000
DTSTAMP:20260421T065448
CREATED:20250418T044638Z
LAST-MODIFIED:20250921T080044Z
UID:10000334-1758267000-1758474000@onsitetraining.com.au
SUMMARY:Certificate IV TAE40122 (Part A) - MACKAY - 19 Sep 2025
DESCRIPTION:Lay a solid foundation for your training journey with our Cert IV TAE40122 (Part A) program. Over 3 days\, explore various units tailored for effective training and assessment. Join us to kickstart your career in education and training.
URL:https://onsitetraining.com.au/course/certificate-iv-tae40122-part-a-mackay-19-sep-2025/
LOCATION:QTAD – Mackay\, QLD - Mackay 839 Mackay/Bucasia Road\, BUCASIA\, QLD\, 4750\, Mackay\, QLD\, 4740\, Australia
CATEGORIES:Training and Assessment
ORGANIZER;CN="Aimee Smart":MAILTO:aimee@onsitetraining.com.au
END:VEVENT
BEGIN:VEVENT
DTSTART;TZID=Australia/Melbourne:20250923T073000
DTEND;TZID=Australia/Melbourne:20250925T170000
DTSTAMP:20260421T065448
CREATED:20250702T030045Z
LAST-MODIFIED:20250925T080029Z
UID:10000375-1758612600-1758819600@onsitetraining.com.au
SUMMARY:Certificate IV TAE40122 (Part A) - BRISBANE - 23 Sep 2025
DESCRIPTION:Lay a solid foundation for your training journey with our Cert IV TAE40122 (Part A) program. Over 3 days\, explore various units tailored for effective training and assessment. Join us to kickstart your career in education and training.
URL:https://onsitetraining.com.au/course/certificate-iv-tae40122-part-a-brisbane-23-sep-2025/
LOCATION:Central Coast Training\, Brisbane Unit 1/11 Booran Drive\, Woodridge\, QLD\, 4114\, Australia
CATEGORIES:Training and Assessment
ORGANIZER;CN="Greg Stark":MAILTO:starkie1@optusnet.com.au
END:VEVENT
BEGIN:VEVENT
DTSTART;TZID=Australia/Melbourne:20250926T073000
DTEND;TZID=Australia/Melbourne:20250927T170000
DTSTAMP:20260421T065448
CREATED:20250702T030300Z
LAST-MODIFIED:20250927T080036Z
UID:10000374-1758871800-1758992400@onsitetraining.com.au
SUMMARY:Supervision & Leadership Workshop - S123 & G2 (formerly G1\, G2\, G8\, G9) - BRISBANE - 26 Sep 2025
DESCRIPTION:Elevate your supervisory and leadership skills with our comprehensive 2-day program. Tailored for S123&G2 compliance\, this course covers various units. \nJoin us to enhance your leadership capabilities and make a significant impact within your team \n\nWho should do this course: \nThis course is ideal for current and aspiring supervisors\, team leaders\, and managers in the mining\, construction\, and resources sectors looking to fulfil the requirements for S123&G2 compliance and enhance their leadership skills.
URL:https://onsitetraining.com.au/course/supervision-leadership-workshop-s123-g2-formerly-g1-g2-g8-g9-brisbane-26-sep-2025/
CATEGORIES:Leadership
ORGANIZER;CN="Greg Stark":MAILTO:starkie1@optusnet.com.au
END:VEVENT
BEGIN:VEVENT
DTSTART;TZID=Australia/Melbourne:20250930T073000
DTEND;TZID=Australia/Melbourne:20251002T170000
DTSTAMP:20260421T065448
CREATED:20250418T044534Z
LAST-MODIFIED:20251002T080027Z
UID:10000333-1759217400-1759424400@onsitetraining.com.au
SUMMARY:Transition – TAE40110 to TAE40122 - MACKAY - 30 Sep 2025
DESCRIPTION:Transition seamlessly from TAE40110/TAE40116 to TAE40122 with our comprehensive program. Our face to face program is designed to help you transition to the newest Training and Assessor certification in the fastest easiest way possible. \nDuration: \nIn-person 3 Days (No Post Course Work) \nFee: $2\,500
URL:https://onsitetraining.com.au/course/transition-tae40110-to-tae40122-mackay-30-sep-2025/
LOCATION:QTAD – Mackay\, QLD - Mackay 839 Mackay/Bucasia Road\, BUCASIA\, QLD\, 4750\, Mackay\, QLD\, 4740\, Australia
CATEGORIES:Training and Assessment
ORGANIZER;CN="Aimee Smart":MAILTO:aimee@onsitetraining.com.au
END:VEVENT
END:VCALENDAR