BEGIN:VCALENDAR
VERSION:2.0
PRODID:-//ONSITE TRAINING AUSTRALIA - Australia’s premier leadership and training provider - ECPv6.10.1.1//NONSGML v1.0//EN
CALSCALE:GREGORIAN
METHOD:PUBLISH
X-ORIGINAL-URL:https://onsitetraining.com.au
X-WR-CALDESC:Events for ONSITE TRAINING AUSTRALIA - Australia’s premier leadership and training provider
REFRESH-INTERVAL;VALUE=DURATION:PT1H
X-Robots-Tag:noindex
X-PUBLISHED-TTL:PT1H
BEGIN:VTIMEZONE
TZID:Australia/Melbourne
BEGIN:STANDARD
TZOFFSETFROM:+1100
TZOFFSETTO:+1000
TZNAME:AEST
DTSTART:20250405T160000
END:STANDARD
BEGIN:DAYLIGHT
TZOFFSETFROM:+1000
TZOFFSETTO:+1100
TZNAME:AEDT
DTSTART:20251004T160000
END:DAYLIGHT
END:VTIMEZONE
BEGIN:VEVENT
DTSTART;TZID=Australia/Melbourne:20251031T073000
DTEND;TZID=Australia/Melbourne:20251102T170000
DTSTAMP:20260425T023622
CREATED:20250702T034042Z
LAST-MODIFIED:20251102T070107Z
UID:10000387-1761895800-1762102800@onsitetraining.com.au
SUMMARY:Certificate IV TAE40122 (Part B) - MORANBAH - 31 Oct 2025
DESCRIPTION:Immerse yourself in the world of training and assessment with our Cert IV TAE40122 (Part B) program. Spanning 3 days\, this comprehensive course covers various units. Join us to advance your skills and knowledge in the field of education and training.
URL:https://onsitetraining.com.au/course/certificate-iv-tae40122-part-b-moranbah-31-oct-2025/
LOCATION:Moranbah Onsite Training Venue\, Moranbah Shop 15\, Town Square Avenue\, Moranbah\, QLD\, 4744\, Australia
CATEGORIES:Training and Assessment
ORGANIZER;CN="Aimee Smart":MAILTO:aimee@onsitetraining.com.au
END:VEVENT
BEGIN:VEVENT
DTSTART;TZID=Australia/Melbourne:20251028T073000
DTEND;TZID=Australia/Melbourne:20251030T170000
DTSTAMP:20260425T023622
CREATED:20250702T033938Z
LAST-MODIFIED:20251030T070028Z
UID:10000386-1761636600-1761843600@onsitetraining.com.au
SUMMARY:Certificate IV TAE40122 (Part A) - MORANBAH - 28 Oct 2025
DESCRIPTION:Lay a solid foundation for your training journey with our Cert IV TAE40122 (Part A) program. Over 3 days\, explore various units tailored for effective training and assessment. Join us to kickstart your career in education and training.
URL:https://onsitetraining.com.au/course/certificate-iv-tae40122-part-a-moranbah-28-oct-2025/
LOCATION:Moranbah Onsite Training Venue\, Moranbah Shop 15\, Town Square Avenue\, Moranbah\, QLD\, 4744\, Australia
CATEGORIES:Training and Assessment
ORGANIZER;CN="Aimee Smart":MAILTO:aimee@onsitetraining.com.au
END:VEVENT
BEGIN:VEVENT
DTSTART;TZID=Australia/Melbourne:20251021T073000
DTEND;TZID=Australia/Melbourne:20251022T173000
DTSTAMP:20260425T023622
CREATED:20250702T040803Z
LAST-MODIFIED:20251022T070055Z
UID:10000397-1761031800-1761154200@onsitetraining.com.au
SUMMARY:Supervision & Leadership Workshop - S123 & G2 (formerly G1\, G2\, G8\, G9) - MORANBAH - 21 Oct 2025
DESCRIPTION:Elevate your supervisory and leadership skills with our comprehensive 2-day program. Tailored for S123&G2 compliance\, this course covers various units. \nJoin us to enhance your leadership capabilities and make a significant impact within your team \n\nWho should do this course: \nThis course is ideal for current and aspiring supervisors\, team leaders\, and managers in the mining\, construction\, and resources sectors looking to fulfil the requirements for S123&G2 compliance and enhance their leadership skills.
URL:https://onsitetraining.com.au/course/supervision-leadership-workshop-s123-g2-formerly-g1-g2-g8-g9-moranbah-21-oct-2025/
LOCATION:Moranbah Onsite Training Venue\, Moranbah Shop 15\, Town Square Avenue\, Moranbah\, QLD\, 4744\, Australia
CATEGORIES:Leadership
ORGANIZER;CN="Greg Stark":MAILTO:starkie1@optusnet.com.au
END:VEVENT
BEGIN:VEVENT
DTSTART;TZID=Australia/Melbourne:20250911T073000
DTEND;TZID=Australia/Melbourne:20250913T170000
DTSTAMP:20260425T023622
CREATED:20250702T025740Z
LAST-MODIFIED:20250913T080040Z
UID:10000373-1757575800-1757782800@onsitetraining.com.au
SUMMARY:Certificate IV TAE40122 (Part A) - MORANBAH - 11 Sep 2025
DESCRIPTION:Lay a solid foundation for your training journey with our Cert IV TAE40122 (Part A) program. Over 3 days\, explore various units tailored for effective training and assessment. Join us to kickstart your career in education and training.
URL:https://onsitetraining.com.au/course/certificate-iv-tae40122-part-a-moranbah-11-sep-2025/
LOCATION:Moranbah Onsite Training Venue\, Moranbah Shop 15\, Town Square Avenue\, Moranbah\, QLD\, 4744\, Australia
CATEGORIES:Training and Assessment
ORGANIZER;CN="Greg Stark":MAILTO:starkie1@optusnet.com.au
END:VEVENT
BEGIN:VEVENT
DTSTART;TZID=Australia/Melbourne:20250822T073000
DTEND;TZID=Australia/Melbourne:20250824T170000
DTSTAMP:20260425T023622
CREATED:20250801T014511Z
LAST-MODIFIED:20250822T000039Z
UID:10000446-1755847800-1756054800@onsitetraining.com.au
SUMMARY:Certificate IV TAE40122 (Part A) - MORANBAH - 22 Aug 2025
DESCRIPTION:Lay a solid foundation for your training journey with our Cert IV TAE40122 (Part A) program. Over 3 days\, explore various units tailored for effective training and assessment. Join us to kickstart your career in education and training.
URL:https://onsitetraining.com.au/course/certificate-iv-tae40122-part-a-moranbah-22-aug-2025/
LOCATION:Moranbah Onsite Training Venue\, Moranbah Shop 15\, Town Square Avenue\, Moranbah\, QLD\, 4744\, Australia
CATEGORIES:Training and Assessment
ORGANIZER;CN="Duane Vosper":MAILTO:duane@onsitetraining.com.au
END:VEVENT
BEGIN:VEVENT
DTSTART;TZID=Australia/Melbourne:20250819T073000
DTEND;TZID=Australia/Melbourne:20250821T170000
DTSTAMP:20260425T023622
CREATED:20250418T042039Z
LAST-MODIFIED:20250819T000039Z
UID:10000319-1755588600-1755795600@onsitetraining.com.au
SUMMARY:Certificate IV TAE40122 (Part A) - MORANBAH - 19 Aug 2025
DESCRIPTION:Lay a solid foundation for your training journey with our Cert IV TAE40122 (Part A) program. Over 3 days\, explore various units tailored for effective training and assessment. Join us to kickstart your career in education and training.
URL:https://onsitetraining.com.au/course/certificate-iv-tae40122-part-a-moranbah-19-aug-2025/
LOCATION:Moranbah Onsite Training Venue\, Moranbah Shop 15\, Town Square Avenue\, Moranbah\, QLD\, 4744\, Australia
CATEGORIES:Training and Assessment
ORGANIZER;CN="Ryan Shallis":MAILTO:ryan@onsitetraining.com.au
END:VEVENT
BEGIN:VEVENT
DTSTART;TZID=Australia/Melbourne:20250718T073000
DTEND;TZID=Australia/Melbourne:20250720T170000
DTSTAMP:20260425T023622
CREATED:20250415T010605Z
LAST-MODIFIED:20250718T000020Z
UID:10000255-1752823800-1753030800@onsitetraining.com.au
SUMMARY:Certificate IV TAE40122 (Part A) - MORANBAH - 18 Jul 2025
DESCRIPTION:Lay a solid foundation for your training journey with our Cert IV TAE40122 (Part A) program. Over 3 days\, explore various units tailored for effective training and assessment. Join us to kickstart your career in education and training.
URL:https://onsitetraining.com.au/course/certificate-iv-tae40122-part-a-moranbah-18-jul-2025/
LOCATION:Moranbah Onsite Training Venue\, Moranbah Shop 15\, Town Square Avenue\, Moranbah\, QLD\, 4744\, Australia
CATEGORIES:Training and Assessment
ORGANIZER;CN="Greg Stark":MAILTO:starkie1@optusnet.com.au
END:VEVENT
BEGIN:VEVENT
DTSTART;TZID=Australia/Melbourne:20250716T073000
DTEND;TZID=Australia/Melbourne:20250717T170000
DTSTAMP:20260425T023622
CREATED:20250417T053542Z
LAST-MODIFIED:20250804T040204Z
UID:10000296-1752651000-1752771600@onsitetraining.com.au
SUMMARY:Supervision & Leadership Workshop - S123 & G2 (formerly G1\, G2\, G8\, G9) - MORANBAH - 16 Jul 2025
DESCRIPTION:Elevate your supervisory and leadership skills with our comprehensive 2-day program. Tailored for S123&G2 compliance\, this course covers various units. \nJoin us to enhance your leadership capabilities and make a significant impact within your team \n\nWho should do this course: \nThis course is ideal for current and aspiring supervisors\, team leaders\, and managers in the mining\, construction\, and resources sectors looking to fulfil the requirements for S123&G2 compliance and enhance their leadership skills.
URL:https://onsitetraining.com.au/course/supervision-leadership-workshop-s123-g2-formerly-g1-g2-g8-g9-moranbah-16-jul-2025/
LOCATION:Moranbah Onsite Training Venue\, Moranbah Shop 15\, Town Square Avenue\, Moranbah\, QLD\, 4744\, Australia
CATEGORIES:Leadership,QTAD
ORGANIZER;CN="Greg Stark":MAILTO:starkie1@optusnet.com.au
END:VEVENT
BEGIN:VEVENT
DTSTART;TZID=Australia/Melbourne:20250711T073000
DTEND;TZID=Australia/Melbourne:20250713T170000
DTSTAMP:20260425T023622
CREATED:20250415T010805Z
LAST-MODIFIED:20250711T000016Z
UID:10000256-1752219000-1752426000@onsitetraining.com.au
SUMMARY:Certificate IV TAE40122 (Part B) - MORANBAH - 11 Jul 2025
DESCRIPTION:Immerse yourself in the world of training and assessment with our Cert IV TAE40122 (Part B) program. Spanning 3 days\, this comprehensive course covers various units. Join us to advance your skills and knowledge in the field of education and training.
URL:https://onsitetraining.com.au/course/certificate-iv-tae40122-part-b-moranbah-11-jul-2025/
LOCATION:Moranbah Onsite Training Venue\, Moranbah Shop 15\, Town Square Avenue\, Moranbah\, QLD\, 4744\, Australia
CATEGORIES:Training and Assessment
ORGANIZER;CN="Ryan Shallis":MAILTO:ryan@onsitetraining.com.au
END:VEVENT
BEGIN:VEVENT
DTSTART;TZID=Australia/Melbourne:20250708T073000
DTEND;TZID=Australia/Melbourne:20250710T170000
DTSTAMP:20260425T023622
CREATED:20250416T065836Z
LAST-MODIFIED:20250708T000030Z
UID:10000276-1751959800-1752166800@onsitetraining.com.au
SUMMARY:Certificate IV TAE40122 (Part A) - MORANBAH - 08 Jul 2025
DESCRIPTION:Lay a solid foundation for your training journey with our Cert IV TAE40122 (Part A) program. Over 3 days\, explore various units tailored for effective training and assessment. Join us to kickstart your career in education and training.
URL:https://onsitetraining.com.au/course/certificate-iv-tae40122-part-a-moranbah-08-jul-2025/
LOCATION:Moranbah Onsite Training Venue\, Moranbah Shop 15\, Town Square Avenue\, Moranbah\, QLD\, 4744\, Australia
CATEGORIES:Training and Assessment
ORGANIZER;CN="Ryan Shallis":MAILTO:ryan@onsitetraining.com.au
END:VEVENT
BEGIN:VEVENT
DTSTART;TZID=Australia/Melbourne:20250627T073000
DTEND;TZID=Australia/Melbourne:20250629T170000
DTSTAMP:20260425T023622
CREATED:20250318T032758Z
LAST-MODIFIED:20250627T000014Z
UID:10000238-1751009400-1751216400@onsitetraining.com.au
SUMMARY:Transition – TAE40110 to TAE40122 - MORANBAH - 27 Jun 2025
DESCRIPTION:Transition seamlessly from TAE40110/TAE40116 to TAE40122 with our comprehensive program. Our face to face program is designed to help you transition to the newest Training and Assessor certification in the fastest easiest way possible.
URL:https://onsitetraining.com.au/course/transition-tae40110-to-tae40122-moranbah-27-jun-2025/
LOCATION:Moranbah Onsite Training Venue\, Moranbah Shop 15\, Town Square Avenue\, Moranbah\, QLD\, 4744\, Australia
CATEGORIES:Training and Assessment
ORGANIZER;CN="Aimee Smart":MAILTO:aimee@onsitetraining.com.au
END:VEVENT
BEGIN:VEVENT
DTSTART;TZID=Australia/Melbourne:20250624T073000
DTEND;TZID=Australia/Melbourne:20250626T170000
DTSTAMP:20260425T023622
CREATED:20250205T040605Z
LAST-MODIFIED:20250624T000017Z
UID:10000216-1750750200-1750957200@onsitetraining.com.au
SUMMARY:Certificate IV TAE40122 (Part A) - MORANBAH - 24 Jun 2025
DESCRIPTION:Lay a solid foundation for your training journey with our Cert IV TAE40122 (Part A) program. Over 3 days\, explore various units tailored for effective training and assessment. Join us to kickstart your career in education and training.
URL:https://onsitetraining.com.au/course/certificate-iv-tae40122-part-a-moranbah-24-jun-2025/
LOCATION:Moranbah Onsite Training Venue\, Moranbah Shop 15\, Town Square Avenue\, Moranbah\, QLD\, 4744\, Australia
CATEGORIES:Training and Assessment
ORGANIZER;CN="Aimee Smart":MAILTO:aimee@onsitetraining.com.au
END:VEVENT
BEGIN:VEVENT
DTSTART;TZID=Australia/Melbourne:20250529T073000
DTEND;TZID=Australia/Melbourne:20250530T170000
DTSTAMP:20260425T023622
CREATED:20250414T031831Z
LAST-MODIFIED:20250804T040234Z
UID:10000253-1748503800-1748624400@onsitetraining.com.au
SUMMARY:Supervision & Leadership Workshop - S123 & G2 (formerly G1\, G2\, G8\, G9) - MORANBAH - 29 May 2025
DESCRIPTION:Elevate your supervisory and leadership skills with our comprehensive 2-day program. Tailored for S123&G2 compliance\, this course covers various units. \nJoin us to enhance your leadership capabilities and make a significant impact within your team \n\nWho should do this course: \nThis course is ideal for current and aspiring supervisors\, team leaders\, and managers in the mining\, construction\, and resources sectors looking to fulfil the requirements for S123&G2 compliance and enhance their leadership skills.
URL:https://onsitetraining.com.au/course/supervision-leadership-workshop-s123-g2-formerly-g1-g2-g8-g9-moranbah-29-may-2025/
LOCATION:Moranbah Onsite Training Venue\, Moranbah Shop 15\, Town Square Avenue\, Moranbah\, QLD\, 4744\, Australia
CATEGORIES:Leadership,QTAD
ORGANIZER;CN="Greg Stark":MAILTO:starkie1@optusnet.com.au
END:VEVENT
BEGIN:VEVENT
DTSTART;TZID=Australia/Melbourne:20250509T070000
DTEND;TZID=Australia/Melbourne:20250511T170000
DTSTAMP:20260425T023622
CREATED:20250204T033119Z
LAST-MODIFIED:20250509T000018Z
UID:10000178-1746774000-1746982800@onsitetraining.com.au
SUMMARY:Certificate IV TAE40122 (Part B) - MORANBAH - 09 May 2025
DESCRIPTION:Immerse yourself in the world of training and assessment with our Cert IV TAE40122 (Part B) program. Spanning 3 days\, this comprehensive course covers various units. Join us to advance your skills and knowledge in the field of education and training.
URL:https://onsitetraining.com.au/course/certificate-iv-tae40122-part-b-moranbah-09-may-2025-2/
LOCATION:Moranbah Onsite Training Venue\, Moranbah Shop 15\, Town Square Avenue\, Moranbah\, QLD\, 4744\, Australia
CATEGORIES:Training and Assessment
ORGANIZER;CN="Duane Vosper":MAILTO:duane@onsitetraining.com.au
END:VEVENT
BEGIN:VEVENT
DTSTART;TZID=Australia/Melbourne:20250506T073000
DTEND;TZID=Australia/Melbourne:20250508T170000
DTSTAMP:20260425T023622
CREATED:20250205T014148Z
LAST-MODIFIED:20250506T000016Z
UID:10000194-1746516600-1746723600@onsitetraining.com.au
SUMMARY:Certificate IV TAE40122 (Part A) - MORANBAH - 06 May 2025
DESCRIPTION:Lay a solid foundation for your training journey with our Cert IV TAE40122 (Part A) program. Over 3 days\, explore various units tailored for effective training and assessment. Join us to kickstart your career in education and training.
URL:https://onsitetraining.com.au/course/certificate-iv-tae40122-part-a-moranbah-06-may-2025/
LOCATION:Moranbah Onsite Training Venue\, Moranbah Shop 15\, Town Square Avenue\, Moranbah\, QLD\, 4744\, Australia
CATEGORIES:Training and Assessment
ORGANIZER;CN="Duane Vosper":MAILTO:duane@onsitetraining.com.au
END:VEVENT
BEGIN:VEVENT
DTSTART;TZID=Australia/Melbourne:20250424T073000
DTEND;TZID=Australia/Melbourne:20250426T170000
DTSTAMP:20260425T023622
CREATED:20250205T014008Z
LAST-MODIFIED:20250424T000015Z
UID:10000193-1745479800-1745686800@onsitetraining.com.au
SUMMARY:Certificate IV TAE40122 (Part A) - MORANBAH - 24 Apr 2025
DESCRIPTION:Lay a solid foundation for your training journey with our Cert IV TAE40122 (Part A) program. Over 3 days\, explore various units tailored for effective training and assessment. Join us to kickstart your career in education and training.
URL:https://onsitetraining.com.au/course/certificate-iv-tae40122-part-a-moranbah-24-apr-2025/
LOCATION:Moranbah Onsite Training Venue\, Moranbah Shop 15\, Town Square Avenue\, Moranbah\, QLD\, 4744\, Australia
CATEGORIES:Training and Assessment
ORGANIZER;CN="Duane Vosper":MAILTO:duane@onsitetraining.com.au
END:VEVENT
BEGIN:VEVENT
DTSTART;TZID=Australia/Melbourne:20250421T073000
DTEND;TZID=Australia/Melbourne:20250423T170000
DTSTAMP:20260425T023622
CREATED:20250326T004323Z
LAST-MODIFIED:20250421T000015Z
UID:10000247-1745220600-1745427600@onsitetraining.com.au
SUMMARY:Certificate IV TAE40122 (Part A) - MORANBAH - 21 Apr 2025
DESCRIPTION:Lay a solid foundation for your training journey with our Cert IV TAE40122 (Part A) program. Over 3 days\, explore various units tailored for effective training and assessment. Join us to kickstart your career in education and training.
URL:https://onsitetraining.com.au/course/certificate-iv-tae40122-part-a-moranbah-21-apr-2025/
LOCATION:Moranbah Onsite Training Venue\, Moranbah Shop 15\, Town Square Avenue\, Moranbah\, QLD\, 4744\, Australia
CATEGORIES:Training and Assessment
ORGANIZER;CN="Duane Vosper":MAILTO:duane@onsitetraining.com.au
END:VEVENT
BEGIN:VEVENT
DTSTART;TZID=Australia/Melbourne:20250326T073000
DTEND;TZID=Australia/Melbourne:20250328T170000
DTSTAMP:20260425T023622
CREATED:20241205T044720Z
LAST-MODIFIED:20250325T230116Z
UID:10000155-1742974200-1743181200@onsitetraining.com.au
SUMMARY:Transition – TAE40110 to TAE40122 - MORANBAH - 26 Mar 2025
DESCRIPTION:Transition seamlessly from TAE40116 to TAE40122 with our comprehensive program. Our face to face program is designed to help you transition to the newest Training and Assessor certification in the fastest easiest way possible.
URL:https://onsitetraining.com.au/course/transition-tae40110-to-tae40122-moranbah-26-mar-2025/
LOCATION:Moranbah Onsite Training Venue\, Moranbah Shop 15\, Town Square Avenue\, Moranbah\, QLD\, 4744\, Australia
CATEGORIES:Training and Assessment
ORGANIZER;CN="Duane Vosper":MAILTO:duane@onsitetraining.com.au
END:VEVENT
BEGIN:VEVENT
DTSTART;TZID=Australia/Melbourne:20250317T073000
DTEND;TZID=Australia/Melbourne:20250319T170000
DTSTAMP:20260425T023622
CREATED:20241003T025904Z
LAST-MODIFIED:20250316T230059Z
UID:10000066-1742196600-1742403600@onsitetraining.com.au
SUMMARY:Certificate IV TAE40122 (Part B) - Moranbah - 17 Mar 2025
DESCRIPTION:Immerse yourself in the world of training and assessment with our Cert IV TAE40122 (Part B) program. Spanning 3 days\, this comprehensive course covers various units. Join us to advance your skills and knowledge in the field of education and training.
URL:https://onsitetraining.com.au/course/certificate-iv-tae40122-part-b-moranbah-17-mar-2025/
LOCATION:Moranbah Onsite Training Venue\, Moranbah Shop 15\, Town Square Avenue\, Moranbah\, QLD\, 4744\, Australia
CATEGORIES:Training and Assessment
ORGANIZER;CN="Aimee Smart":MAILTO:aimee@onsitetraining.com.au
END:VEVENT
BEGIN:VEVENT
DTSTART;TZID=Australia/Melbourne:20250310T073000
DTEND;TZID=Australia/Melbourne:20250312T170000
DTSTAMP:20260425T023622
CREATED:20241010T020948Z
LAST-MODIFIED:20250309T230056Z
UID:10000065-1741591800-1741798800@onsitetraining.com.au
SUMMARY:Certificate IV TAE40122 (Part A) - MORANBAH - 10 Mar 2025
DESCRIPTION:Lay a solid foundation for your training journey with our Cert IV TAE40122 (Part A) program. Over 3 days\, explore various units tailored for effective training and assessment. Join us to kickstart your career in education and training.
URL:https://onsitetraining.com.au/course/certificate-iv-tae40122-part-a-moranbah-10-mar-2025/
LOCATION:Moranbah Onsite Training Venue\, Moranbah Shop 15\, Town Square Avenue\, Moranbah\, QLD\, 4744\, Australia
CATEGORIES:Training and Assessment
ORGANIZER;CN="Duane Vosper":MAILTO:duane@onsitetraining.com.au
END:VEVENT
BEGIN:VEVENT
DTSTART;TZID=Australia/Melbourne:20250204T073000
DTEND;TZID=Australia/Melbourne:20250206T170000
DTSTAMP:20260425T023622
CREATED:20250108T031123Z
LAST-MODIFIED:20250203T230054Z
UID:10000168-1738654200-1738861200@onsitetraining.com.au
SUMMARY:Certificate IV TAE40122 (Part A) - MORANBAH - 04 Feb 2025
DESCRIPTION:Lay a solid foundation for your training journey with our Cert IV TAE40122 (Part A) program. Over 3 days\, explore various units tailored for effective training and assessment. Join us to kickstart your career in education and training.
URL:https://onsitetraining.com.au/course/certificate-iv-tae40122-part-a-moranbah-04-feb-2025/
LOCATION:Moranbah Onsite Training Venue\, Moranbah Shop 15\, Town Square Avenue\, Moranbah\, QLD\, 4744\, Australia
CATEGORIES:Training and Assessment
ORGANIZER;CN="Aimee Smart":MAILTO:aimee@onsitetraining.com.au
END:VEVENT
BEGIN:VEVENT
DTSTART;TZID=Australia/Melbourne:20250127T073000
DTEND;TZID=Australia/Melbourne:20250129T170000
DTSTAMP:20260425T023622
CREATED:20241003T013927Z
LAST-MODIFIED:20250126T230052Z
UID:10000046-1737963000-1738170000@onsitetraining.com.au
SUMMARY:Transition – TAE40116 to TAE40122 - Moranbah - 27 Jan 2025
DESCRIPTION:Transition seamlessly from TAE40116 to TAE40122 with our comprehensive program. Our face to face program is designed to help you transition to the newest Training and Assessor certification in the fastest easiest way possible.
URL:https://onsitetraining.com.au/course/transition-tae40116-to-tae40122-moranbah-27-jan-2025/
LOCATION:Moranbah Onsite Training Venue\, Moranbah Shop 15\, Town Square Avenue\, Moranbah\, QLD\, 4744\, Australia
CATEGORIES:Training and Assessment
ORGANIZER;CN="Joanne Phillips":MAILTO:roadskills@live.com.au
END:VEVENT
BEGIN:VEVENT
DTSTART;TZID=Australia/Melbourne:20250116T073000
DTEND;TZID=Australia/Melbourne:20250117T170000
DTSTAMP:20260425T023622
CREATED:20241106T023351Z
LAST-MODIFIED:20250115T230046Z
UID:10000085-1737012600-1737133200@onsitetraining.com.au
SUMMARY:Supervision & Leadership (S123&G2) - MORANBAH - 16 Jan 2025
DESCRIPTION:Elevate your supervisory and leadership skills with our comprehensive 2-day program. Tailored for S123&G2 compliance\, this course covers various units. \nJoin us to enhance your leadership capabilities and make a significant impact within your team \n\nWho should do this course: \nThis course is ideal for current and aspiring supervisors\, team leaders\, and managers in the mining\, construction\, and resources sectors looking to fulfil the requirements for S123&G2 compliance and enhance their leadership skills.
URL:https://onsitetraining.com.au/course/supervision-leadership-s123g2-moranbah-16-jan-2025/
LOCATION:Moranbah Onsite Training Venue\, Moranbah Shop 15\, Town Square Avenue\, Moranbah\, QLD\, 4744\, Australia
CATEGORIES:Leadership,QTAD
ORGANIZER;CN="Jeff Skinner":MAILTO:jeff@onsitetraining.com.au
END:VEVENT
BEGIN:VEVENT
DTSTART;TZID=Australia/Melbourne:20250113T073000
DTEND;TZID=Australia/Melbourne:20250115T170000
DTSTAMP:20260425T023622
CREATED:20241002T073000Z
LAST-MODIFIED:20250112T230045Z
UID:10000043-1736753400-1736960400@onsitetraining.com.au
SUMMARY:Certificate IV TAE40122 (Part A) - MORANBAH - 13 Jan 2025
DESCRIPTION:Lay a solid foundation for your training journey with our Cert IV TAE40122 (Part A) program. Over 3 days\, explore various units tailored for effective training and assessment. Join us to kickstart your career in education and training.
URL:https://onsitetraining.com.au/course/certificate-iv-tae40122-part-a-moranbah-13-jan-2025/
LOCATION:Moranbah Onsite Training Venue\, Moranbah Shop 15\, Town Square Avenue\, Moranbah\, QLD\, 4744\, Australia
CATEGORIES:Training and Assessment
ORGANIZER;CN="Chad Oldham":MAILTO:chad.oldham@outlook.com
END:VEVENT
END:VCALENDAR