BEGIN:VCALENDAR
VERSION:2.0
PRODID:-//ONSITE TRAINING AUSTRALIA - Australia’s premier leadership and training provider - ECPv6.10.1.1//NONSGML v1.0//EN
CALSCALE:GREGORIAN
METHOD:PUBLISH
X-ORIGINAL-URL:https://onsitetraining.com.au
X-WR-CALDESC:Events for ONSITE TRAINING AUSTRALIA - Australia’s premier leadership and training provider
REFRESH-INTERVAL;VALUE=DURATION:PT1H
X-Robots-Tag:noindex
X-PUBLISHED-TTL:PT1H
BEGIN:VTIMEZONE
TZID:Australia/Melbourne
BEGIN:STANDARD
TZOFFSETFROM:+1100
TZOFFSETTO:+1000
TZNAME:AEST
DTSTART:20260404T160000
END:STANDARD
BEGIN:DAYLIGHT
TZOFFSETFROM:+1000
TZOFFSETTO:+1100
TZNAME:AEDT
DTSTART:20261003T160000
END:DAYLIGHT
END:VTIMEZONE
BEGIN:VEVENT
DTSTART;TZID=Australia/Melbourne:20260714T073000
DTEND;TZID=Australia/Melbourne:20260715T173000
DTSTAMP:20260425T005502
CREATED:20260401T030742Z
LAST-MODIFIED:20260405T203340Z
UID:10000902-1784014200-1784136600@onsitetraining.com.au
SUMMARY:Supervision & Leadership Workshop - S123 & G2 (formerly G1\, G2\, G8\, G9) - Moranbah - 14 Jul 2026
DESCRIPTION:Elevate your supervisory and leadership skills with our comprehensive 2-day program. Tailored for S123&G2 compliance\, this course covers various units. \nJoin us to enhance your leadership capabilities and make a significant impact within your team \n\nWho should do this course: \nThis course is ideal for current and aspiring supervisors\, team leaders\, and managers in the mining\, construction\, and resources sectors looking to fulfil the requirements for S123&G2 compliance and enhance their leadership skills.
URL:https://onsitetraining.com.au/course/supervision-leadership-workshop-s123-g2-formerly-g1-g2-g8-g9-moranbah-14-jul-2026/
LOCATION:Moranbah Onsite Training Venue\, Moranbah Shop 15\, Town Square Avenue\, Moranbah\, QLD\, 4744\, Australia
CATEGORIES:Leadership
ORGANIZER;CN="Sherri Most":MAILTO:coast2coal@outlook.com.au
END:VEVENT
BEGIN:VEVENT
DTSTART;TZID=Australia/Melbourne:20260721T073000
DTEND;TZID=Australia/Melbourne:20260723T173000
DTSTAMP:20260425T005502
CREATED:20260401T012534Z
LAST-MODIFIED:20260405T203553Z
UID:10000882-1784619000-1784827800@onsitetraining.com.au
SUMMARY:Certificate IV TAE40122 (Part A) - Moranbah - 21 Jul 2026
DESCRIPTION:Lay a solid foundation for your training journey with our Cert IV TAE40122 (Part A) program. Over 3 days\, explore various units tailored for effective training and assessment. Join us to kickstart your career in education and training. \nDisclaimer:Public Course Requirements\nWe deliver premium FACE-TO-FACE training with NO post-course work.\nTo maintain this standard\, a minimum of 6 paid participants is required for the course to proceed.\nIf minimum numbers are not met\, your enrolment will be rescheduled to the next available date. If a suitable date cannot be arranged\, a full refund will be issued promptly.\nAll participants must bring and be able to use a laptop/computer for the duration of the course.\nWi-Fi is provided onsite.
URL:https://onsitetraining.com.au/course/certificate-iv-tae40122-part-a-moranbah-21-jul-2026/
LOCATION:Moranbah Onsite Training Venue\, Moranbah Shop 15\, Town Square Avenue\, Moranbah\, QLD\, 4744\, Australia
CATEGORIES:Training and Assessment
ORGANIZER;CN="Nathan Corbett":MAILTO:director@onsitetraining.com.au
END:VEVENT
BEGIN:VEVENT
DTSTART;TZID=Australia/Melbourne:20260724T073000
DTEND;TZID=Australia/Melbourne:20260726T173000
DTSTAMP:20260425T005502
CREATED:20260401T012922Z
LAST-MODIFIED:20260405T203638Z
UID:10000883-1784878200-1785087000@onsitetraining.com.au
SUMMARY:Certificate IV TAE40122 (Part B) - Moranbah - 24 Jul 2026
DESCRIPTION:Immerse yourself in the world of training and assessment with our Cert IV TAE40122 (Part B) program. Spanning 3 days\, this comprehensive course covers various units. Join us to advance your skills and knowledge in the field of education and training.\nPublic Course Requirements\nWe deliver premium FACE-TO-FACE training with NO post-course work.\nTo maintain this standard\, a minimum of 6 paid participants is required for the course to proceed.\nIf minimum numbers are not met\, your enrolment will be rescheduled to the next available date. If a suitable date cannot be arranged\, a full refund will be issued promptly.\nAll participants must bring and be able to use a laptop/computer for the duration of the course.\nWi-Fi is provided onsite.\nDisclaimer:
URL:https://onsitetraining.com.au/course/certificate-iv-tae40122-part-b-moranbah-24-jul-2026/
LOCATION:Moranbah Onsite Training Venue\, Moranbah Shop 15\, Town Square Avenue\, Moranbah\, QLD\, 4744\, Australia
CATEGORIES:Training and Assessment
ORGANIZER;CN="Nathan Corbett":MAILTO:director@onsitetraining.com.au
END:VEVENT
BEGIN:VEVENT
DTSTART;TZID=Australia/Melbourne:20260820T073000
DTEND;TZID=Australia/Melbourne:20260822T173000
DTSTAMP:20260425T005502
CREATED:20260405T212312Z
LAST-MODIFIED:20260405T212312Z
UID:10000910-1787211000-1787419800@onsitetraining.com.au
SUMMARY:Transition – TAE40110 to TAE40122 - Face to Face - Moranbah - 20 Aug 2026
DESCRIPTION:Transition seamlessly from TAE40110/TAE40116 to TAE40122 with our comprehensive program. Our face to face program is designed to help you transition to the newest Training and Assessor certification in the fastest easiest way possible. \nDisclaimer:Public Course Requirements\nWe deliver premium FACE-TO-FACE training with NO post-course work.\nTo maintain this standard\, a minimum of 6 paid participants is required for the course to proceed.\nIf minimum numbers are not met\, your enrolment will be rescheduled to the next available date. If a suitable date cannot be arranged\, a full refund will be issued promptly.\nAll participants must bring and be able to use a laptop/computer for the duration of the course.\nWi-Fi is provided onsite.
URL:https://onsitetraining.com.au/course/transition-tae40110-to-tae40122-face-to-face-moranbah-20-aug-2026/
LOCATION:Moranbah Onsite Training Venue\, Moranbah Shop 15\, Town Square Avenue\, Moranbah\, QLD\, 4744\, Australia
CATEGORIES:Training and Assessment
END:VEVENT
BEGIN:VEVENT
DTSTART;TZID=Australia/Melbourne:20260825T073000
DTEND;TZID=Australia/Melbourne:20260827T173000
DTSTAMP:20260425T005502
CREATED:20260401T021120Z
LAST-MODIFIED:20260405T204326Z
UID:10000894-1787643000-1787851800@onsitetraining.com.au
SUMMARY:Certificate IV TAE40122 (Part A) - Moranbah - 25 Aug 2026
DESCRIPTION:Lay a solid foundation for your training journey with our Cert IV TAE40122 (Part A) program. Over 3 days\, explore various units tailored for effective training and assessment. Join us to kickstart your career in education and training. \nDisclaimer:Public Course Requirements\nWe deliver premium FACE-TO-FACE training with NO post-course work.\nTo maintain this standard\, a minimum of 6 paid participants is required for the course to proceed.\nIf minimum numbers are not met\, your enrolment will be rescheduled to the next available date. If a suitable date cannot be arranged\, a full refund will be issued promptly.\nAll participants must bring and be able to use a laptop/computer for the duration of the course.\nWi-Fi is provided onsite.
URL:https://onsitetraining.com.au/course/certificate-iv-tae40122-part-a-moranbah-25-aug-2026/
LOCATION:Moranbah Onsite Training Venue\, Moranbah Shop 15\, Town Square Avenue\, Moranbah\, QLD\, 4744\, Australia
CATEGORIES:Training and Assessment
ORGANIZER;CN="Nathan Corbett":MAILTO:director@onsitetraining.com.au
END:VEVENT
BEGIN:VEVENT
DTSTART;TZID=Australia/Melbourne:20260828T073000
DTEND;TZID=Australia/Melbourne:20260830T173000
DTSTAMP:20260425T005502
CREATED:20260401T021304Z
LAST-MODIFIED:20260405T204428Z
UID:10000895-1787902200-1788111000@onsitetraining.com.au
SUMMARY:Certificate IV TAE40122 (Part B) - Moranbah - 28 Aug 2026
DESCRIPTION:Immerse yourself in the world of training and assessment with our Cert IV TAE40122 (Part B) program. Spanning 3 days\, this comprehensive course covers various units. Join us to advance your skills and knowledge in the field of education and training.\nPublic Course Requirements\nWe deliver premium FACE-TO-FACE training with NO post-course work.\nTo maintain this standard\, a minimum of 6 paid participants is required for the course to proceed.\nIf minimum numbers are not met\, your enrolment will be rescheduled to the next available date. If a suitable date cannot be arranged\, a full refund will be issued promptly.\nAll participants must bring and be able to use a laptop/computer for the duration of the course.\nWi-Fi is provided onsite.\nDisclaimer:
URL:https://onsitetraining.com.au/course/certificate-iv-tae40122-part-b-moranbah-28-aug-2026/
LOCATION:Moranbah Onsite Training Venue\, Moranbah Shop 15\, Town Square Avenue\, Moranbah\, QLD\, 4744\, Australia
CATEGORIES:Training and Assessment
ORGANIZER;CN="Nathan Corbett":MAILTO:director@onsitetraining.com.au
END:VEVENT
BEGIN:VEVENT
DTSTART;TZID=Australia/Melbourne:20260914T073000
DTEND;TZID=Australia/Melbourne:20260915T173000
DTSTAMP:20260425T005502
CREATED:20260401T030430Z
LAST-MODIFIED:20260405T204904Z
UID:10000901-1789371000-1789493400@onsitetraining.com.au
SUMMARY:Supervision & Leadership Workshop - S123 & G2 (formerly G1\, G2\, G8\, G9) - Moranbah - 14 Sep 2026
DESCRIPTION:Elevate your supervisory and leadership skills with our comprehensive 2-day program. Tailored for S123&G2 compliance\, this course covers various units. \nJoin us to enhance your leadership capabilities and make a significant impact within your team \n\nWho should do this course: \nThis course is ideal for current and aspiring supervisors\, team leaders\, and managers in the mining\, construction\, and resources sectors looking to fulfil the requirements for S123&G2 compliance and enhance their leadership skills.
URL:https://onsitetraining.com.au/course/supervision-leadership-workshop-s123-g2-formerly-g1-g2-g8-g9-moranbah-14-sep-2026/
LOCATION:Moranbah Onsite Training Venue\, Moranbah Shop 15\, Town Square Avenue\, Moranbah\, QLD\, 4744\, Australia
CATEGORIES:Leadership
END:VEVENT
BEGIN:VEVENT
DTSTART;TZID=Australia/Melbourne:20260921T073000
DTEND;TZID=Australia/Melbourne:20260923T173000
DTSTAMP:20260425T005502
CREATED:20260401T031339Z
LAST-MODIFIED:20260405T205008Z
UID:10000904-1789975800-1790184600@onsitetraining.com.au
SUMMARY:Certificate IV TAE40122 (Part A) - Moranbah - 21 Sep 2026
DESCRIPTION:Lay a solid foundation for your training journey with our Cert IV TAE40122 (Part A) program. Over 3 days\, explore various units tailored for effective training and assessment. Join us to kickstart your career in education and training. \nDisclaimer:Public Course Requirements\nWe deliver premium FACE-TO-FACE training with NO post-course work.\nTo maintain this standard\, a minimum of 6 paid participants is required for the course to proceed.\nIf minimum numbers are not met\, your enrolment will be rescheduled to the next available date. If a suitable date cannot be arranged\, a full refund will be issued promptly.\nAll participants must bring and be able to use a laptop/computer for the duration of the course.\nWi-Fi is provided onsite.
URL:https://onsitetraining.com.au/course/certificate-iv-tae40122-part-a-moranbah-21-sep-2026/
LOCATION:Moranbah Onsite Training Venue\, Moranbah Shop 15\, Town Square Avenue\, Moranbah\, QLD\, 4744\, Australia
CATEGORIES:Training and Assessment
END:VEVENT
BEGIN:VEVENT
DTSTART;TZID=Australia/Melbourne:20260924T073000
DTEND;TZID=Australia/Melbourne:20260926T173000
DTSTAMP:20260425T005502
CREATED:20260401T031456Z
LAST-MODIFIED:20260405T205043Z
UID:10000905-1790235000-1790443800@onsitetraining.com.au
SUMMARY:Certificate IV TAE40122 (Part B) - Moranbah - 24 Sep 2026
DESCRIPTION:Immerse yourself in the world of training and assessment with our Cert IV TAE40122 (Part B) program. Spanning 3 days\, this comprehensive course covers various units. Join us to advance your skills and knowledge in the field of education and training.\nPublic Course Requirements\nWe deliver premium FACE-TO-FACE training with NO post-course work.\nTo maintain this standard\, a minimum of 6 paid participants is required for the course to proceed.\nIf minimum numbers are not met\, your enrolment will be rescheduled to the next available date. If a suitable date cannot be arranged\, a full refund will be issued promptly.\nAll participants must bring and be able to use a laptop/computer for the duration of the course.\nWi-Fi is provided onsite.\nDisclaimer:
URL:https://onsitetraining.com.au/course/certificate-iv-tae40122-part-b-moranbah-24-sep-2026/
LOCATION:Moranbah Onsite Training Venue\, Moranbah Shop 15\, Town Square Avenue\, Moranbah\, QLD\, 4744\, Australia
CATEGORIES:Training and Assessment
ORGANIZER;CN="Nathan Corbett":MAILTO:director@onsitetraining.com.au
END:VEVENT
END:VCALENDAR