BEGIN:VCALENDAR
VERSION:2.0
PRODID:-//ONSITE TRAINING AUSTRALIA - Australia’s premier leadership and training provider - ECPv6.10.1.1//NONSGML v1.0//EN
CALSCALE:GREGORIAN
METHOD:PUBLISH
X-WR-CALNAME:ONSITE TRAINING AUSTRALIA - Australia’s premier leadership and training provider
X-ORIGINAL-URL:https://onsitetraining.com.au
X-WR-CALDESC:Events for ONSITE TRAINING AUSTRALIA - Australia’s premier leadership and training provider
REFRESH-INTERVAL;VALUE=DURATION:PT1H
X-Robots-Tag:noindex
X-PUBLISHED-TTL:PT1H
BEGIN:VTIMEZONE
TZID:Australia/Melbourne
BEGIN:STANDARD
TZOFFSETFROM:+1100
TZOFFSETTO:+1000
TZNAME:AEST
DTSTART:20260404T160000
END:STANDARD
BEGIN:DAYLIGHT
TZOFFSETFROM:+1000
TZOFFSETTO:+1100
TZNAME:AEDT
DTSTART:20261003T160000
END:DAYLIGHT
END:VTIMEZONE
BEGIN:VEVENT
DTSTART;TZID=Australia/Melbourne:20260424T073000
DTEND;TZID=Australia/Melbourne:20260426T170000
DTSTAMP:20260420T124359
CREATED:20260120T020933Z
LAST-MODIFIED:20260302T023059Z
UID:10000834-1777015800-1777222800@onsitetraining.com.au
SUMMARY:Certificate IV TAE40122 (Part B) - BRISBANE - 24 Apr 2026
DESCRIPTION:Immerse yourself in the world of training and assessment with our Cert IV TAE40122 (Part B) program. Spanning 3 days\, this comprehensive course covers various units. Join us to advance your skills and knowledge in the field of education and training.\nPublic Course Requirements\nWe deliver premium FACE-TO-FACE training with NO post-course work.\nTo maintain this standard\, a minimum of 6 paid participants is required for the course to proceed.\nIf minimum numbers are not met\, your enrolment will be rescheduled to the next available date. If a suitable date cannot be arranged\, a full refund will be issued promptly.\nAll participants must bring and be able to use a laptop/computer for the duration of the course.\nWi-Fi is provided onsite.\nDisclaimer:
URL:https://onsitetraining.com.au/course/certificate-iv-tae40122-part-b-brisbane-24-apr-2026/
CATEGORIES:Training and Assessment
ORGANIZER;CN="Duane Vosper":MAILTO:duane@onsitetraining.com.au
END:VEVENT
BEGIN:VEVENT
DTSTART;TZID=Australia/Melbourne:20260511T073000
DTEND;TZID=Australia/Melbourne:20260513T170000
DTSTAMP:20260420T124359
CREATED:20260120T022651Z
LAST-MODIFIED:20260302T003539Z
UID:10000841-1778484600-1778691600@onsitetraining.com.au
SUMMARY:Blended Transition – TAE40110 to TAE40122 - Webinar - AUSTRALIA - 11 May 2026
DESCRIPTION:The TAE40122 Transition Course is a nationally accredited professional development program designed for trainers and assessors who currently hold the TAE40110 or TAE40116 Certificate IV in Training and Assessment and need to transition to the updated TAE40122 Certificate IV standard. This program ensures you meet all current industry requirements and remain compliant with the latest training package standards using our unique blended approach. \nDisclaimer:Public Course Requirements\nWe deliver premium FACE-TO-FACE training with NO post-course work.\nTo maintain this standard\, a minimum of 6 paid participants is required for the course to proceed.\nIf minimum numbers are not met\, your enrolment will be rescheduled to the next available date. If a suitable date cannot be arranged\, a full refund will be issued promptly.\nAll participants must bring and be able to use a laptop/computer for the duration of the course.\nWi-Fi is provided onsite.
URL:https://onsitetraining.com.au/course/blended-transition-tae40110-to-tae40122-webinar-australia-11-may-2026/
CATEGORIES:Training and Assessment
ORGANIZER;CN="Duane Vosper":MAILTO:duane@onsitetraining.com.au
END:VEVENT
BEGIN:VEVENT
DTSTART;TZID=Australia/Melbourne:20260720T073000
DTEND;TZID=Australia/Melbourne:20260722T173000
DTSTAMP:20260420T124359
CREATED:20260401T013125Z
LAST-MODIFIED:20260414T054439Z
UID:10000884-1784532600-1784741400@onsitetraining.com.au
SUMMARY:Blended Transition – TAE40110 to TAE40122 - Webinar - Online Session - 20 Jul 2026
DESCRIPTION:The TAE40122 Transition Course is a nationally accredited professional development program designed for trainers and assessors who currently hold the TAE40110 or TAE40116 Certificate IV in Training and Assessment and need to transition to the updated TAE40122 Certificate IV standard. This program ensures you meet all current industry requirements and remain compliant with the latest training package standards using our unique blended approach. \nDisclaimer: Public Course Requirements\nWe deliver premium training with NO post-course work.\nTo maintain this standard\, a minimum of 6 paid participants is required for the course to proceed.\nIf minimum numbers are not met\, your enrolment will be rescheduled to the next available date. If a suitable date cannot be arranged\, a full refund will be issued promptly. \nAll participants must bring and be able to use a laptop/computer for the duration of the course.
URL:https://onsitetraining.com.au/course/blended-transition-tae40110-to-tae40122-webinar-online-session-20-jul-2026/
LOCATION:Online Session\, Online - Webinar\, Australia
CATEGORIES:Training and Assessment
ORGANIZER;CN="Duane Vosper":MAILTO:duane@onsitetraining.com.au
END:VEVENT
BEGIN:VEVENT
DTSTART;TZID=Australia/Melbourne:20260825T073000
DTEND;TZID=Australia/Melbourne:20260827T173000
DTSTAMP:20260420T124359
CREATED:20260401T020858Z
LAST-MODIFIED:20260405T204358Z
UID:10000893-1787643000-1787851800@onsitetraining.com.au
SUMMARY:Blended Transition – TAE40110 to TAE40122 - Webinar - Australia - 25 Aug 2026
DESCRIPTION:The TAE40122 Transition Course is a nationally accredited professional development program designed for trainers and assessors who currently hold the TAE40110 or TAE40116 Certificate IV in Training and Assessment and need to transition to the updated TAE40122 Certificate IV standard. This program ensures you meet all current industry requirements and remain compliant with the latest training package standards using our unique blended approach. \nDisclaimer: Public Course Requirements\nWe deliver premium training with NO post-course work.\nTo maintain this standard\, a minimum of 6 paid participants is required for the course to proceed.\nIf minimum numbers are not met\, your enrolment will be rescheduled to the next available date. If a suitable date cannot be arranged\, a full refund will be issued promptly. \nAll participants must bring and be able to use a laptop/computer for the duration of the course.
URL:https://onsitetraining.com.au/course/blended-transition-tae40110-to-tae40122-webinar-australia-25-aug-2026/
CATEGORIES:Training and Assessment
ORGANIZER;CN="Duane Vosper":MAILTO:duane@onsitetraining.com.au
END:VEVENT
END:VCALENDAR